BEGIN:VCALENDAR
BEGIN:VEVENT
SUMMARY:Oral questions - Impact on businesses of the recent RMT strikes on
  London Underground services  and plans to mitigate such impact during fut
 ure strikes
DTSTART;VALUE=DATE:20260428
DTEND;VALUE=DATE:20260429
DESCRIPTION:MP: Lord Sharpe of Epsom (Con - Life peer). View Source: <a hr
 ef="https://whatson.parliament.uk/lords/2026-04-28/"> https://whatson.parl
 iament.uk/lords/2026-04-28/</a>. 
LOCATION:Lords: Main Chamber
END:VEVENT
END:VCALENDAR
