BEGIN:VCALENDAR
BEGIN:VEVENT
SUMMARY:Oral questions - How online challenger banks assess and process ne
 w applications for accounts
DTSTART;TZID=Europe/London:20260427T143000
DTEND;TZID=Europe/London:20260427T160000
DESCRIPTION:MP: Lord Ranger of Northwood (Con - Life peer). View Source: <
 a href="https://whatson.parliament.uk/lords/2026-04-27/"> https://whatson.
 parliament.uk/lords/2026-04-27/</a>. 
LOCATION:Lords: Main Chamber
END:VEVENT
END:VCALENDAR
