BEGIN:VCALENDAR
BEGIN:VEVENT
SUMMARY:Estimated rising time
DTSTART;TZID=Europe/London:20260424T150000
DTEND;TZID=Europe/London:20260424T163000
DESCRIPTION:View Source: <a href="https://whatson.parliament.uk/lords/2026
 -04-24/"> https://whatson.parliament.uk/lords/2026-04-24/</a>. 
LOCATION:Lords: Main Chamber
END:VEVENT
END:VCALENDAR
