BEGIN:VCALENDAR
BEGIN:VEVENT
SUMMARY:Legislation - Pension Schemes Bill – consideration of Commons am
 endments and / or reasons
DTSTART;VALUE=DATE:20260427
DTEND;VALUE=DATE:20260428
DESCRIPTION:MP: Baroness Sherlock (Lab - Life peer). Department: Departmen
 t for Work and Pensions. Bill: Pension (Special Rules for End of Life) Bil
 l 2024-26. View Source: <a href="https://whatson.parliament.uk/lords/2026-
 04-27/"> https://whatson.parliament.uk/lords/2026-04-27/</a>. 
LOCATION:Lords: Main Chamber
END:VEVENT
END:VCALENDAR
