BEGIN:VCALENDAR
BEGIN:VEVENT
SUMMARY:Foreign Affairs Committee - \nOral evidence - Work of the Foreign\
 , Commonwealth and Development Office
DTSTART;TZID=Europe/London:20260428T083000
DTEND;TZID=Europe/London:20260428T100000
DESCRIPTION:Select Committee: Foreign Affairs Committee. Inquiry: Work of 
 the Foreign\, Commonwealth and Development Office. At 9:00am: Oral evidenc
 eSir Philip Barton GCMG OBE - Former Permanent Under-Secretary at Foreign\
 , Commonwealth & Development Office. View Source: <a href="https://whatson
 .parliament.uk/committees/2026-04-28"> https://whatson.parliament.uk/commi
 ttees/2026-04-28</a>. 
LOCATION:Commons: The Grimond Room\, Portcullis House
END:VEVENT
END:VCALENDAR
