BEGIN:VCALENDAR
BEGIN:VEVENT
SUMMARY:Estimated rising time - The House may rise early.
DTSTART;VALUE=DATE:20260423
DTEND;VALUE=DATE:20260424
DESCRIPTION:View Source: <a href="https://whatson.parliament.uk/lords/2026
 -04-23/"> https://whatson.parliament.uk/lords/2026-04-23/</a>. 
LOCATION:Lords: Main Chamber
END:VEVENT
END:VCALENDAR
