BEGIN:VCALENDAR
BEGIN:VEVENT
SUMMARY:Statement - Women’s health strategy 
DTSTART;VALUE=DATE:20260423
DTEND;VALUE=DATE:20260424
DESCRIPTION:MP: Baroness Merron (Lab - Life peer). Department: Department 
 of Health and Social Care. View Source: <a href="https://whatson.parliamen
 t.uk/lords/2026-04-23/"> https://whatson.parliament.uk/lords/2026-04-23/</
 a>. 
LOCATION:Lords: Main Chamber
END:VEVENT
END:VCALENDAR
