BEGIN:VCALENDAR
BEGIN:VEVENT
SUMMARY:Legislation -  Crime and Policing Bill - consideration of Commons 
 amendments (if required)
DTSTART;VALUE=DATE:20260427
DTEND;VALUE=DATE:20260428
DESCRIPTION:MP: Lord Hanson of Flint (Lab - Life peer). Department: Home O
 ffice. Bill: Crime and Policing Bill 2024-26. View Source: <a href="https:
 //whatson.parliament.uk/lords/2026-04-27/"> https://whatson.parliament.uk/
 lords/2026-04-27/</a>. 
LOCATION:Lords: Main Chamber
END:VEVENT
END:VCALENDAR
