BEGIN:VCALENDAR
BEGIN:VEVENT
SUMMARY:Foreign Affairs Committee - \nOral evidence - Work of the Foreign\
 , Commonwealth and Development Office
DTSTART;TZID=Europe/London:20260423T090000
DTEND;TZID=Europe/London:20260423T103000
DESCRIPTION:Select Committee: Foreign Affairs Committee. Inquiry: Work of 
 the Foreign\, Commonwealth and Development Office. At 9:30am: Oral evidenc
 eCatherine Little CB - Chief Operating Officer at Civil Service\,  and Per
 manent Secretary at Cabinet Office. View Source: <a href="https://whatson.
 parliament.uk/committees/2026-04-23"> https://whatson.parliament.uk/commit
 tees/2026-04-23</a>. 
LOCATION:Commons: The Grimond Room\, Portcullis House
END:VEVENT
END:VCALENDAR
