BEGIN:VCALENDAR
BEGIN:VEVENT
SUMMARY:International Agreements Committee - \nOral evidence - Trade in a 
 turbulent world: how should the UK deploy its trade instruments?
DTSTART;TZID=Europe/London:20260428T140000
DTEND;TZID=Europe/London:20260428T153000
DESCRIPTION:Select Committee: International Agreements Committee. At 2:00p
 m: Oral evidenceSabina Ciofu - International Policy and Strategy Lead at t
 echUKJohn Cooke - Co-Chair\, Liberalisation of Trade in Services (LOTIS) E
 xpert Advisory Group at TheCityUKMr William Bain - Head of Trade Policy at
  British Chambers of Commerce. View Source: <a href="https://whatson.parli
 ament.uk/committees/2026-04-28"> https://whatson.parliament.uk/committees/
 2026-04-28</a>. 
LOCATION:Lords: Room 3\, Palace of Westminster
END:VEVENT
END:VCALENDAR
