BEGIN:VCALENDAR
BEGIN:VEVENT
SUMMARY:Environmental Audit Committee - \nOral evidence - Risks and opport
 unities to the sustainability of data centres in the UK
DTSTART;TZID=Europe/London:20260429T140000
DTEND;TZID=Europe/London:20260429T153000
DESCRIPTION:Select Committee: Environmental Audit Committee. At 2:30pm: Or
 al evidenceChristina Christopoulou - Senior Manager for Infrastructure\, E
 nergy and Environmental Policy at Amazon Web ServicesSteen Stewart - Senio
 r Advisory Consultant at Crown Hosting Framework AuthorityAt 3:30pm: Oral 
 evidenceMatt Evans - Chief Operating Officer and Director of Markets at te
 chUKDame Dawn Childs - Chief Executive Officer at Pure Data Centres GroupO
 liver Hayes - Head of Policy and Campaigns at Global Action Plan. View Sou
 rce: <a href="https://whatson.parliament.uk/committees/2026-04-29"> https:
 //whatson.parliament.uk/committees/2026-04-29</a>. 
LOCATION:Commons: TBC
END:VEVENT
END:VCALENDAR
