BEGIN:VCALENDAR
BEGIN:VEVENT
SUMMARY:Culture\, Media and Sport Committee - \nOral evidence - Major even
 ts
DTSTART;TZID=Europe/London:20260428T093000
DTEND;TZID=Europe/London:20260428T110000
DESCRIPTION:Select Committee: Culture\, Media and Sport Committee. At 10:0
 0am: Oral evidenceStephanie Peacock MP - Minister for Sport\, Tourism\, Ci
 vil Society and Youth at Department for Culture\, Media and SportJonathan 
 Martin - Director for Project Delivery and Major Events at Department for 
 Culture\, Media and SportMichael Livingston - Director for Major Sporting 
 Projects Delivery at Department for Culture\, Media and Sport. View Source
 : <a href="https://whatson.parliament.uk/committees/2026-04-28"> https://w
 hatson.parliament.uk/committees/2026-04-28</a>. 
LOCATION:Commons: TBC
END:VEVENT
END:VCALENDAR
