BEGIN:VCALENDAR
BEGIN:VEVENT
SUMMARY:Justice Committee - \nOral evidence - Work of the Ministry of Just
 ice
DTSTART;TZID=Europe/London:20260428T140000
DTEND;TZID=Europe/London:20260428T153000
DESCRIPTION:Select Committee: Justice Committee. At 2:30pm: Oral evidenceD
 r Jo Farrar CB OBE - Permanent Secretary at Ministry of JusticeNick Goodwi
 n - Chief Executive and Director General at HM Courts and Tribunals Servic
 eAdrian Hannell - Director of Financial Management\, Control\, Risk & Gove
 rnance at Ministry of JusticeJames McEwen - Chief Executive and Director G
 eneral at HM Prison and Probation Service. View Source: <a href="https://w
 hatson.parliament.uk/committees/2026-04-28"> https://whatson.parliament.uk
 /committees/2026-04-28</a>. 
LOCATION:Commons: TBC
END:VEVENT
END:VCALENDAR
