BEGIN:VCALENDAR
BEGIN:VEVENT
SUMMARY:National Resilience Committee - \nPrivate Meeting - National Resil
 ience
DTSTART;TZID=Europe/London:20260430T103000
DTEND;TZID=Europe/London:20260430T120000
DESCRIPTION:Select Committee: National Resilience Committee. View Source: 
 <a href="https://whatson.parliament.uk/committees/2026-04-30"> https://wha
 tson.parliament.uk/committees/2026-04-30</a>. 
LOCATION:Lords: Room 3\, Palace of Westminster
END:VEVENT
END:VCALENDAR
