BEGIN:VCALENDAR
BEGIN:VEVENT
SUMMARY:Education Committee - \nOral evidence - Screen Time and Social Med
 ia
DTSTART;TZID=Europe/London:20260428T093000
DTEND;TZID=Europe/London:20260428T110000
DESCRIPTION:Select Committee: Education Committee. View Source: <a href="h
 ttps://whatson.parliament.uk/committees/2026-04-28"> https://whatson.parli
 ament.uk/committees/2026-04-28</a>. 
LOCATION:Commons: TBC
END:VEVENT
END:VCALENDAR
