BEGIN:VCALENDAR
BEGIN:VEVENT
SUMMARY:Legislation - Children’s Wellbeing and Schools Bill - considerat
 ion of Commons amendments (if required)
DTSTART;VALUE=DATE:20260427
DTEND;VALUE=DATE:20260428
DESCRIPTION:MP: Baroness Smith of Malvern (Lab - Life peer). Department: D
 epartment for Work and Pensions. Bill: Children’s Wellbeing and Schools 
 Bill 2024-26. View Source: <a href="https://whatson.parliament.uk/lords/20
 26-04-27/"> https://whatson.parliament.uk/lords/2026-04-27/</a>. 
LOCATION:Lords: Main Chamber
END:VEVENT
END:VCALENDAR
