BEGIN:VCALENDAR
BEGIN:VEVENT
SUMMARY:Science and Technology Committee - \nPrivate Meeting
DTSTART;TZID=Europe/London:20260428T100000
DTEND;TZID=Europe/London:20260428T113000
DESCRIPTION:Select Committee: Science and Technology Committee. View Sourc
 e: <a href="https://whatson.parliament.uk/committees/2026-04-28"> https://
 whatson.parliament.uk/committees/2026-04-28</a>. 
LOCATION:Lords: To be confirmed
END:VEVENT
END:VCALENDAR
