BEGIN:VCALENDAR
BEGIN:VEVENT
SUMMARY:Statement - British Industrial Competitiveness Scheme 
DTSTART;VALUE=DATE:20260422
DTEND;VALUE=DATE:20260423
DESCRIPTION:MP: Baroness Lloyd of Effra (Lab - Life peer). View Source: <a
  href="https://whatson.parliament.uk/lords/2026-04-22/"> https://whatson.p
 arliament.uk/lords/2026-04-22/</a>. 
LOCATION:Lords: Main Chamber
END:VEVENT
END:VCALENDAR
