BEGIN:VCALENDAR
BEGIN:VEVENT
SUMMARY:Westminster Hall debate - Potential merits of a national accident 
 prevention strategy 
DTSTART;TZID=Europe/London:20260428T163000
DTEND;TZID=Europe/London:20260428T180000
DESCRIPTION:MP: Andrew Mitchell (Con - Sutton Coldfield). View Source: <a 
 href="https://whatson.parliament.uk/commons/2026-04-28/"> https://whatson.
 parliament.uk/commons/2026-04-28/</a>. 
LOCATION:Commons: Westminster Hall
END:VEVENT
END:VCALENDAR
