BEGIN:VCALENDAR
BEGIN:VEVENT
SUMMARY:Westminster Hall debate - UK-India Technology Security Initiative 
DTSTART;TZID=Europe/London:20260428T110000
DTEND;TZID=Europe/London:20260428T123000
DESCRIPTION:MP: Dan Aldridge (Lab - Weston-super-Mare). View Source: <a hr
 ef="https://whatson.parliament.uk/commons/2026-04-28/"> https://whatson.pa
 rliament.uk/commons/2026-04-28/</a>. 
LOCATION:Commons: Westminster Hall
END:VEVENT
END:VCALENDAR
