BEGIN:VCALENDAR
BEGIN:VEVENT
SUMMARY:Westminster Hall debate - Water quality in Kent 
DTSTART;TZID=Europe/London:20260429T163000
DTEND;TZID=Europe/London:20260429T180000
DESCRIPTION:MP: Tony Vaughan (Lab - Folkestone and Hythe). View Source: <a
  href="https://whatson.parliament.uk/commons/2026-04-29/"> https://whatson
 .parliament.uk/commons/2026-04-29/</a>. 
LOCATION:Commons: Westminster Hall
END:VEVENT
END:VCALENDAR
