BEGIN:VCALENDAR
BEGIN:VEVENT
SUMMARY:Westminster Hall debate - Impact of the Community Infrastructure L
 evy on private homeowners 
DTSTART;TZID=Europe/London:20260429T093000
DTEND;TZID=Europe/London:20260429T110000
DESCRIPTION:MP: Jeremy Hunt (Con - Godalming and Ash). View Source: <a hre
 f="https://whatson.parliament.uk/commons/2026-04-29/"> https://whatson.par
 liament.uk/commons/2026-04-29/</a>. 
LOCATION:Commons: Westminster Hall
END:VEVENT
END:VCALENDAR
