BEGIN:VCALENDAR
BEGIN:VEVENT
SUMMARY:Fourth Delegated Legislation Committee - \nDebate - The draft Cons
 ervation of Habitats and Species (Offshore Wind) (Amendment etc.) Regulati
 ons 2026
DTSTART;TZID=Europe/London:20260427T180000
DTEND;TZID=Europe/London:20260427T193000
DESCRIPTION:Department: Department for Environment\, Food and Rural Affair
 s. Secondary Legislation: Conservation of Habitats and Species (Offshore W
 ind) (Amendment etc.) Regulations 2026. Select Committee: Fourth Delegated
  Legislation Committee. View Source: <a href="https://whatson.parliament.u
 k/committees/2026-04-27"> https://whatson.parliament.uk/committees/2026-04
 -27</a>. 
LOCATION:Commons: Room 14\, Palace of Westminster
END:VEVENT
END:VCALENDAR
