BEGIN:VCALENDAR
BEGIN:VEVENT
SUMMARY:Third Delegated Legislation Committee - \nDebate - The draft First
 -tier Tribunal (Property Chamber) Fees (Amendment) Order 2026
DTSTART;TZID=Europe/London:20260427T180000
DTEND;TZID=Europe/London:20260427T193000
DESCRIPTION:Department: Ministry of Justice. Secondary Legislation: First-
 tier Tribunal (Property Chamber) Fees (Amendment) Order 2026. Select Commi
 ttee: Third Delegated Legislation Committee. View Source: <a href="https:/
 /whatson.parliament.uk/committees/2026-04-27"> https://whatson.parliament.
 uk/committees/2026-04-27</a>. 
LOCATION:Commons: Room 12\, Palace of Westminster
END:VEVENT
END:VCALENDAR
