BEGIN:VCALENDAR
BEGIN:VEVENT
SUMMARY:First Delegated Legislation Committee - \nDebate - The draft Vapin
 g Duty Stamps (Requirements\, Reviews and Appeals) Regulations 2026
DTSTART;TZID=Europe/London:20260427T163000
DTEND;TZID=Europe/London:20260427T180000
DESCRIPTION:Secondary Legislation: Vaping Duty Stamps (Requirements\, Revi
 ews and Appeals) Regulations 2026. Select Committee: First Delegated Legis
 lation Committee. View Source: <a href="https://whatson.parliament.uk/comm
 ittees/2026-04-27"> https://whatson.parliament.uk/committees/2026-04-27</a
 >. 
LOCATION:Commons: Room 9\, Palace of Westminster
END:VEVENT
END:VCALENDAR
