BEGIN:VCALENDAR
BEGIN:VEVENT
SUMMARY:Defence Committee - \nOral evidence - Defence in the High North
DTSTART;TZID=Europe/London:20260428T100000
DTEND;TZID=Europe/London:20260428T113000
DESCRIPTION:Select Committee: Defence Committee. At 10:30am: Oral evidence
 Dr David Blagden - Professor of International Security & Strategy at The U
 niversity of ExeterProfessor Katarzyna Zysk - Professor of International R
 elations and Contemporary History at Norwegian Institute For Defence Studi
 es. View Source: <a href="https://whatson.parliament.uk/committees/2026-04
 -28"> https://whatson.parliament.uk/committees/2026-04-28</a>. 
LOCATION:Commons: TBC
END:VEVENT
END:VCALENDAR
