BEGIN:VCALENDAR
BEGIN:VEVENT
SUMMARY:International Development Committee - \nOral evidence - The UK’s
  development partnership with Nigeria
DTSTART;TZID=Europe/London:20260428T130000
DTEND;TZID=Europe/London:20260428T143000
DESCRIPTION:Select Committee: International Development Committee. View So
 urce: <a href="https://whatson.parliament.uk/committees/2026-04-28"> https
 ://whatson.parliament.uk/committees/2026-04-28</a>. 
LOCATION:Commons: TBC
END:VEVENT
END:VCALENDAR
