BEGIN:VCALENDAR
BEGIN:VEVENT
SUMMARY:Statement - Update on the Infected Blood Compensation Scheme 
DTSTART;VALUE=DATE:20260421
DTEND;VALUE=DATE:20260422
DESCRIPTION:MP: Baroness Anderson of Stoke-on-Trent (Lab - Life peer). Vie
 w Source: <a href="https://whatson.parliament.uk/lords/2026-04-21/"> https
 ://whatson.parliament.uk/lords/2026-04-21/</a>. 
LOCATION:Lords: Main Chamber
END:VEVENT
END:VCALENDAR
