BEGIN:VCALENDAR
BEGIN:VEVENT
SUMMARY:Women and Equalities Committee - \nOral evidence - Experiences of 
 women in live comedy
DTSTART;TZID=Europe/London:20260428T140000
DTEND;TZID=Europe/London:20260428T153000
DESCRIPTION:Select Committee: Women and Equalities Committee. At 2:20pm: O
 ral evidenceAimee Perry - Head Booker at Frog and Bucket Comedy VenueKelly
  Edwards-Good - Senior Marketing and Press Officer at Komedia BrightonAt 3
 :15pm: Oral evidenceLu Jackson - Founder & CEO at CRAIC and Founder & Chai
 r at CRAFTJessica Toomey - Co-chair at Live Comedy AssociationKirsten Muat
  - North West Organiser at EquityLynne Parker - Founder and CEO at Funny W
 omen CIC. View Source: <a href="https://whatson.parliament.uk/committees/2
 026-04-28"> https://whatson.parliament.uk/committees/2026-04-28</a>. 
LOCATION:Commons: Room 6\, Palace of Westminster
END:VEVENT
END:VCALENDAR
