BEGIN:VCALENDAR
BEGIN:VEVENT
SUMMARY:Estimated rising time
DTSTART;TZID=Europe/London:20260420T220000
DTEND;TZID=Europe/London:20260420T233000
DESCRIPTION:View Source: <a href="https://whatson.parliament.uk/lords/2026
 -04-20/"> https://whatson.parliament.uk/lords/2026-04-20/</a>. 
LOCATION:Lords: Main Chamber
END:VEVENT
END:VCALENDAR
