BEGIN:VCALENDAR
BEGIN:VEVENT
SUMMARY:Oral questions - International Monetary Fund estimate that the UK 
 will have the lowest per capita growth and the joint highest inflation rat
 e in the G7 this year\n
DTSTART;VALUE=DATE:20260422
DTEND;VALUE=DATE:20260423
DESCRIPTION:MP: Lord Londesborough (XB - Excepted Hereditary). View Source
 : <a href="https://whatson.parliament.uk/lords/2026-04-22/"> https://whats
 on.parliament.uk/lords/2026-04-22/</a>. 
LOCATION:Lords: Main Chamber
END:VEVENT
END:VCALENDAR
