BEGIN:VCALENDAR
BEGIN:VEVENT
SUMMARY:Ministerial statement - Security Vetting
DTSTART;VALUE=DATE:20260420
DTEND;VALUE=DATE:20260421
DESCRIPTION:MP: Keir Starmer (Lab - Holborn and St Pancras). Department: C
 abinet Office. View Source: <a href="https://whatson.parliament.uk/commons
 /2026-04-20/"> https://whatson.parliament.uk/commons/2026-04-20/</a>. 
LOCATION:Commons: Main Chamber
END:VEVENT
END:VCALENDAR
