BEGIN:VCALENDAR
BEGIN:VEVENT
SUMMARY:Select Committee Statement - Select Committee Statement on the Nin
 th Report of the Environmental Audit Committee\, Addressing the risks from
  Perfluoroalkyl and Polyfluoroalkyl Substances (PFAS)\, HC 852
DTSTART;VALUE=DATE:20260423
DTEND;VALUE=DATE:20260424
DESCRIPTION:MP: Toby Perkins (Lab - Chesterfield). View Source: <a href="h
 ttps://whatson.parliament.uk/commons/2026-04-23/"> https://whatson.parliam
 ent.uk/commons/2026-04-23/</a>. 
LOCATION:Commons: Main Chamber
END:VEVENT
END:VCALENDAR
