BEGIN:VCALENDAR
BEGIN:VEVENT
SUMMARY:Westminster Hall debate - Government support for park home owners
DTSTART;TZID=Europe/London:20260428T093000
DTEND;TZID=Europe/London:20260428T110000
DESCRIPTION:MP: James Naish (Lab - Rushcliffe). View Source: <a href="http
 s://whatson.parliament.uk/commons/2026-04-28/"> https://whatson.parliament
 .uk/commons/2026-04-28/</a>. 
LOCATION:Commons: Westminster Hall
END:VEVENT
END:VCALENDAR
